Workbook
Name агент: 'Служебный лист'!$A$22:$A$24
Name БАК_МЕСТО: 'Служебный лист'!$A$90:$A$10091
Name БАК_ФОРМА: 'Служебный лист'!$A$87:$A$88
Name гг: граф+град
Name град: 'Переменные шаблона'!$B$2:$B$500
Name граф: 'Переменные шаблона'!$A$2:$A$500
Name граф_конд: 'Переменные шаблона'!$A$2:$A$500,'Переменные шаблона'!$F$2:$F$500
Name Диа_нар: 'Служебный лист'!$A$54:$A$79
Name Диаметры: 'Служебный лист'!$A$54:$C$79
Name ДОК_НАЗН: 'Обосновывающие материалы'!$A$3:$A$47
Name ист: 'Переменные шаблона'!$D$2:$D$500
Name конд: 'Переменные шаблона'!$F$2:$F$500
Name мат: 'Переменные шаблона'!$G$2:$G$500
Name место_бак1: БАК_МЕСТО,отопл_пом
Name месяц: 'Служебный лист'!$A$29:$A$40
Name напр: 'Служебный лист'!$A$2:$A$3
Name насн: 'Служебный лист'!$A$16:$A$20
Name неп_под: 'Служебный лист'!$H$92
Name обороты: 'Служебный лист'!$A$5:$A$6
Name ОТОП_ХАР_ЕД_ИЗМ: 'Служебный лист'!$A$84:$A$85
Name отопл_пом: 'Отопление ЦТП'!$B$6:$B$29
Name парам_пар: 'Служебный лист'!$H$90
Name паррег: 'Служебный лист'!$A$26:$A$27
Name подписанты: 'Служебный лист'!$E$90
Name прен: 'Служебный лист'!$A$45:$A$46
Name прок: 'Служебный лист'!$A$10:$A$14
Name ПТЭПСВ: 'Служебный лист'!$A$51
Name пусто: 'Служебный лист'!$A$8
Name РЕГ_ЦТП: 'Служебный лист'!$A$81:$A$82
Name регпер: 'Служебный лист'!$A$42:$A$43
Name режимы_раб: 'Служебный лист'!$G$90:$G$92
Name сет: 'Переменные шаблона'!$C$2:$C$500
Name тест: 'Баки-ТО'!$I$21:$J$24
Name ХАРАК: 'Служебный лист'!$F$90:$F$91
Name ЦТП: 'Переменные шаблона'!$E$2:$E$500
Name ЦТПобор: 'Служебный лист'!$A$48:$A$49

Sheet Обосновывающие материалы
A1: Перечень обосновывающих материалов
A2: п 6. Категория документа
A3: =CONCATENATE(F3,". ",G3) -> 1. Учредительные документы | F3: 1 | G3: Учредительные документы
A4: =CONCATENATE(F4,". ",G4) -> 2. Документы, подтверждающие право собственности | F4: 2 | G4: Документы, подтверждающие право собственности
A5: =CONCATENATE(F5,". ",G5) -> 3. Расчеты технологических потерь на период регулирования, выполненные ЭСО | F5: 3 | G5: Расчеты технологических потерь на период регулирования, выполненные ЭСО
A6: =CONCATENATE(F6,". ",G6) -> 4. Пояснительные записки, к расчету, выполненному ЭСО | F6: 4 | G6: Пояснительные записки, к расчету, выполненному ЭСО
A7: =CONCATENATE(F7,". ",G7) -> 5. Эксплуатационные температурные графики | F7: 5 | G7: Эксплуатационные температурные графики
A8: =CONCATENATE(F8,". ",G8) -> 6. Договора отпуска тепловой энергии абонентам тепловых сетей | F8: 6 | G8: Договора отпуска тепловой энергии абонентам тепловых сетей
A9: =CONCATENATE(F9,". ",G9) -> 7. Договорные параметры пара на отпуске от источников теплоснабжения | F9: 7 | G9: Договорные параметры пара на отпуске от источников теплоснабжения
A10: =CONCATENATE(F10,". ",G10) -> 8. Договорные объемы поставки пара абонентам | F10: 8 | G10: Договорные объемы поставки пара абонентам
A11: =CONCATENATE(F11,". ",G11) -> 9. Справки о фактических климатических показателях за предшествующие 5 лет. | F11: 9 | G11: Справки о фактических климатических показателях за предшествующие 5 лет.
A12: =CONCATENATE(F12,". ",G12) -> 10. Копии постановлений о начале и окончании ОЗП за предшествующие 5 лет. | F12: 10 | G12: Копии постановлений о начале и окончании ОЗП за предшествующие 5 лет.
A13: =CONCATENATE(F13,". ",G13) -> 11. Отчетный баланс отпуска тепловой энергии в тепловых сетях на предбазовый период | F13: 11 | G13: Отчетный баланс отпуска тепловой энергии в тепловых сетях на предбазовый период
A14: =CONCATENATE(F14,". ",G14) -> 12. Отчетный баланс отпуска тепловой энергии в тепловых сетях на базовый период | F14: 12 | G14: Отчетный баланс отпуска тепловой энергии в тепловых сетях на базовый период
... A47: =CONCATENATE(F47,". ",G47) -> 45. Иные документы. | F47: 45 | G47: Иные документы.
A48: Уникальный номер документа в описи | B48: Наименование документа | C48: Число листов | D48: Дата подписания | E48: Перечень подписантов документа. | F48: Категория документа
A49: 1 | B49: 2 | C49: 3 | D49: 4 | E49: 5 | F49: 6

Sheet Сведения об экспертах
A1: Полное наименование экспертной организации | B1: ООО "Экспертная организация"
A2: Должность Руководителя | B2: Ген. Директор
A3: ФИО Руководителя | B3: Петров Петр Петрович
A4: Юридический адрес | B4: 070707, Энская область, город Ясногорск, улица Братская, дом 7, корпус Б.
A5: Почтовый адрес | B5: 070707, Энская область, город Ясногорск, улица Братская, дом 7, корпус С.
A6: Наименование сертификата | B6: Сертификат соответствия СРО Экспертов
A7: Номер сертификата | B7: 001-2010
A8: Дата сертификата (ДД.ММ.ГГГГ) | B8: 40303
A9: Срок действия сертификата, лет | B9: 5
A10: Контактый телефон | B10: 8-(2233)-232-322
A11: Адрес Электронной почты | B11: some_adress@some.ru

Sheet Переменные шаблона
A1: 1. Температурные графики | B1: 2. Населённые пункты | C1: 3. Системы теплоснабжения | D1: 4. Источники теплоснабжения | E1: 5. ЦТП и насосные станции | F1: 6. Параметры конденсата | G1: 7. Теплоизоляционный материал
A2: Температурный график 150/70 °С | B2: г. Ясногорск | C2: Водяная теплосеть г. Ясногорска | D2: Ясногорская ТЭЦ | E2: ЦТП-1 | F2: Конденсат острого пара, 70°С | G2: Пенополиуретан
A3: Температурный график 95/70 °С для отопления | B3: п. Строителей | C3: Паровая теплосеть стройплощадки | D3: Котельная №1 | G3: Фенольный поропласт
A4: Температурный график 65/50 °С для ГВС | B4: г. Северный | C4: Сети конденсатопроводов стройплощадки | D4: Котельная №2 | G4: Полимербетон
C5: Система теплоснабжения п. Строителей | D5: МиниТЭЦ-№3 | G5: Минеральная вата
C6: Система теплоснабжения г. Северный | D6: Котельная п. Строителей
D7: Котельная №1 г. Северный
D8: Котельная №2 г. Северный
D9: Котельная №3 г. Северный

Sheet Служебный лист
A1: 1. Направление теплоносителя
A2: Подающий
A3: Обратный
A4: 2. обороты электродвигателя
A5: 3000
A6: 1500
A7: 3. пустая выборка
A9: 4. Тип прокладки
A10: Надземная прокладка
A11: Непроходной канал
A12: Бесканальная прокладка
A13: Внутри помещений
A14: Тоннель
A15: 5. Назначение участка
A16: Отопление
A17: ГВС
A18: Магистраль
A19: Технология
... A52: 13. Диаметры трубопроводов
A53: Наружный | B53: Внутренний | C53: Условный
A54: 18 | B54: 13.8 | C54: 14
A55: 25 | B55: 21.1 | C55: 20
A56: 32 | B56: 26.9 | C56: 25
A57: 38 | B57: 33 | C57: 30
A58: 45 | B58: 40 | C58: 40
A59: 57 | B59: 50 | C59: 50
A60: 76 | B60: 69 | C60: 70
A61: 89 | B61: 80 | C61: 80
A62: 108 | B62: 100 | C62: 100
A63: 133 | B63: 125 | C63: 125
A64: 157 | B64: 150 | C64: 150
A65: 159 | B65: 150 | C65: 150
... A79: 1220 | B79: 1198 | C79: 1200
A80: 14. Режимы работы ЦТП(НС)
A81: с постоянным обслуживающим персоналом
A82: без постоянного обслуживающего персонала
A83: 15. Единица измерения отопительной характеристики здания
A84: Вт/(м куб.°С)
A85: ккал/(м куб.*ч*°С)
A86: 16. Геометрическая форма бака или теплообменника
...

Sheet Температурные графики
A1: Температурный график: | B1: Температурный график 150/70 °С | D1: Температурный график: | E1: Температурный график 95/70 °С для отопления | G1: Температурный график: | H1: Температурный график 65/50 °С для ГВС
A2: Температура наружного воздуха, °С | B2: Температура воды в подающем трубопроводе, °С | C2: Температура воды в обратном трубопроводе, °С | D2: Температура наружного воздуха, °С | E2: Температура воды в подающем трубопроводе, °С | F2: Температура воды в обратном трубопроводе, °С | G2: Температура наружного воздуха, °С | H2: Температура воды в подающем трубопроводе, °С | I2: Температура воды в обратном трубопроводе, °С
A3: -26 | B3: 150 | C3: 70 | D3: -26 | E3: 95 | F3: 70 | G3: -26 | H3: 65 | I3: 50
A4: -3 | B4: 65 | C4: 50 | D4: 8 | E4: 65 | F4: 50 | G4: 8 | H4: 65 | I4: 50
A5: 8 | B5: 65 | C5: 55
A6: Температуры сетевой воды в обратном и подающем трубопроводах в летний период, °С | B6: 65.5 | C6: 50

Sheet Населенные пункты
A1: Наименование населённого пункта | C1: месяцы | O1: Набор режимов работы участков по умолчанию для данного населённого пункта | P1: Число часов работы в месяце | AB1: Расчётная температура наружного воздуха для проектирования отопления, tр.о., °С; | AC1: Поправочный коэффициент на температуру наружного воздуха для проектирования отопления, α | AD1: Начало летнего периода (ДД.ММ. (пробел) Время в часах) | AE1: Конец летнего периода (ДД.ММ. (пробел) Время в часах)
C3: январь | D3: февраль | E3: март | F3: апрель | G3: май | H3: июнь | I3: июль | J3: август | K3: сентябрь | L3: октябрь | M3: ноябрь | N3: декабрь | P3: январь | Q3: февраль | R3: март | S3: апрель | T3: май | U3: июнь | V3: июль | W3: август | X3: сентябрь | Y3: октябрь | Z3: ноябрь | AA3: декабрь
A4: г. Ясногорск | B4: Температура наружного воздуха, °С | C4: -9.4 | D4: -8.4 | E4: -4 | F4: 4.4 | G4: 11.6 | H4: 15.7 | I4: 17.1 | J4: 15.9 | K4: 10.4 | L4: 4.5 | M4: -1 | N4: -5.8 | O4: Режим отопления | P4: 744 | Q4: 672 | R4: 744 | S4: 200 | T4: 0 | U4: 0 | V4: 0 | W4: 0 | X4: 200 | Y4: 744 | Z4: 720 | AA4: 744 | AB4: -30 | AD4: 16.04. 10 | AE4: 05.09. 10
B5: Температура грунта, °С | C5: 1 | D5: 2.5 | E5: 3.5 | F5: 4 | G5: 6 | H5: 7 | I5: 6.5 | J5: 6.5 | K5: 5 | L5: 3 | M5: 2 | N5: 1 | O5: Режим ГВС | P5: 744 | Q5: 672 | R5: 744 | S5: 720 | T5: 744 | U5: 550 | V5: 550 | W5: 744 | X5: 720 | Y5: 744 | Z5: 720 | AA5: 744
B6: Температура исходной воды, °С | C6: 5 | D6: 5 | E6: 5 | F6: 10 | G6: 20 | H6: 20 | I6: 20 | J6: 20 | K6: 10 | L6: 5 | M6: 5 | N6: 5 | O6: Режим магистрали | P6: 744 | Q6: 672 | R6: 744 | S6: 720 | T6: 744 | U6: 550 | V6: 550 | W6: 744 | X6: 720 | Y6: 744 | Z6: 200 | AA6: 744
A7: п. Строителей | B7: Температура наружного воздуха, °С | C7: -9.4 | D7: -8.4 | E7: -6.5 | F7: 3 | G7: 11.6 | H7: 15.7 | I7: 17.1 | J7: 15.9 | K7: 10.4 | L7: 4.5 | M7: -1 | N7: -5.8 | O7: Режим отопления | P7: 744 | Q7: =28*24 -> 672 | R7: 744 | S7: 200 | T7: 0 | U7: 0 | V7: 0 | W7: 0 | X7: 200 | Y7: 744 | Z7: 720 | AA7: 744 | AB7: -30 | AD7: 16.04. 12 | AE7: 05.09. 10
B8: Температура грунта, °С | C8: 5 | D8: 4 | E8: 6 | F8: 3 | G8: 6 | H8: 7 | I8: 5 | J8: 2 | K8: 3 | L8: 4 | M8: 5 | N8: 5 | O8: Режим ГВС | P8: 744 | Q8: 672 | R8: 744 | S8: 720 | T8: 744 | U8: 650 | V8: 650 | W8: 744 | X8: 720 | Y8: 744 | Z8: 720 | AA8: 744
B9: Температура исходной воды, °С | C9: 5 | D9: 5 | E9: 5 | F9: 5 | G9: 15 | H9: 15 | I9: 15 | J9: 15 | K9: 5 | L9: 5 | M9: 5 | N9: 5 | O9: Режим магистрали | P9: 744 | Q9: 672 | R9: 744 | S9: 720 | T9: 744 | U9: 650 | V9: 650 | W9: 744 | X9: 720 | Y9: 744 | Z9: 200 | AA9: 744
A10: г. Северный | B10: Температура наружного воздуха, °С | C10: -9.4 | D10: -8.4 | E10: -3.5 | F10: 4.8 | G10: 11.6 | H10: 15.7 | I10: 16.5 | J10: 15.9 | K10: 10.4 | L10: 4.5 | M10: -1 | N10: -5.8 | O10: Режим отопления | P10: 744 | Q10: =28*24 -> 672 | R10: 744 | S10: 200 | T10: 0 | U10: 0 | V10: 0 | W10: 0 | X10: 200 | Y10: 744 | Z10: 720 | AA10: 744 | AB10: -30 | AD10: 16.04. 13 | AE10: 05.09. 10
B11: Температура грунта, °С | C11: 1 | D11: 2.5 | E11: 3.5 | F11: 4 | G11: 6 | H11: 7 | I11: 8 | J11: 7 | K11: 5 | L11: 3 | M11: 2 | N11: 1 | O11: Режим ГВС | P11: 744 | Q11: 672 | R11: 744 | S11: 720 | T11: 744 | U11: 650 | V11: 650 | W11: 744 | X11: 720 | Y11: 744 | Z11: 720 | AA11: 744
B12: Температура исходной воды, °С | C12: 5 | D12: 5 | E12: 5 | F12: 10 | G12: 20 | H12: 25 | I12: 20 | J12: 20 | K12: 10 | L12: 5 | M12: 5 | N12: 5 | O12: Режим магистрали | P12: 744 | Q12: 672 | R12: 744 | S12: 720 | T12: 744 | U12: 650 | V12: 650 | W12: 744 | X12: 720 | Y12: 744 | Z12: 200 | AA12: 744

Sheet Характеристики тепловых сетей
K1: Дополнительные данные по тепловой сети за периоды, предшествующие периоду регулирования | U1: Сводные показатели системы теплоснабжения (показатели используются в случае игнорирования расчёта нормативов)
A2: Наименование тепловой сети | B2: Перечень источников теплоснабжения тепловой сети | C2: Тепловые нагрузки, Гкал/ч | G2: Доля нагрузки ГВС, подключённой по зависимой схеме, % (указывать для открытых систем теплоснабжения, в остальных случаях ввести "0") | H2: Полезный отпуск тепловой энергии потребителям на нужды отопления, Гкал | I2: Полезный отпуск тепловой энергии потребителям на нужды ГВС, Гкал | J2: Полезный отпуск тепловой энергии потребителям на нужды технологии, Гкал | K2: № и дата приказа Министерства Энергетики (поле не заполнять в случае отсутствия разработанного приказа на уровне Минэнерго РФ или местного РЭК. В случае утверждения нормативов на уровне РЭК, указать примечание "[РЭК]" ) | L2: Утверждено приказом Минэнерго РФ | O2: Отчёт (в том числе фактические данные по приборам учёта) за период. | R2: Учтено в РЭК в тарифах.
O3: Потери теплоносителя, м3 (т) | P3: Тепловые потери, Гкал | Q3: Отпуск тепловой энергии в сеть, Гкал | U3: Суммарная протяжённость участков системы теплоснабжения (в однотрубном исчислении), LПЛАН, м | V3: Суммарная материальная характеристика участков системы теплоснабжения, МПЛАН, м2 | W3: Суммарный объем системы теплоснабжения в отопительный период, VОТОП, м3 | X3: Суммарный объем системы теплоснабжения в неотопительный период, VЛЕТ, м3 | Y3: Среднегодовой объем системы теплоснабжения, VГОД, м3 | Z3: Суммарное количество насосных станций на балансе системы теплоснабжения, NНС, шт. | AA3: Суммарное количество ЦТП на балансе системы теплоснабжения, NЦТП, шт. | AB3: Суммарные потери теплоносителя с утечкой, GУТ, м3(т) | AC3: Суммарные затраты теплоносителя на пусковое заполнение, GПУСК, м3(т) | AD3: Суммарные потери теплоносителя на регламентные испытания GРЕГ.ИСП, м3(т) | AE3: Суммарные потери теплоносителя со сливом САрЗ, GСАрЗ, м3(т) | AF3: Суммарные потери тепловой энергии через тепловую изоляцию, QИЗ, Гкал | AG3: Суммарные потери тепловой энергии с потерями теплоносителя, QТЕП, Гкал | AH3: Суммарные затраты электроэнергии, Э, кВт*ч | AI3: Суммарные затраты тепловой энергии на отопление помещений ЦТП(НС), Qотоп, Гкал | AJ3: Суммарные потери тепловой энергии через теплоизоляцию баков-аккумуляторов, теплообменных аппаратов и пр., Qбак, Гкал
C4: На отопление и вентиляцию | D4: На ГВС (ср. нед) | E4: На ГВС (макс) | F4: На технологию | L4: Потери теплоносителя, м3 (т) | M4: Тепловые потери, Гкал | N4: Затраты электроэнергии, тыс. кВт×ч. | R4: Потери теплоносителя, м3 (т) | S4: Тепловые потери, Гкал | T4: Затраты электроэнергии, тыс. кВт×ч.
A5: Водяная теплосеть г. Ясногорска | B5: Ясногорская ТЭЦ | C5: 7.5873333 | D5: 1.2 | E5: 2.3333333 | F5: 0 | G5: 0 | H5: =C5*5188 -> 39363.085 | I5: =D5*8424 -> 10108.8 | J5: 0 | K5: Приказ №53 от 12.10.08 г. | L5: 178.55995 | M5: 4900 | N5: 5000000 | R5: 178.55995 | S5: 4900 | T5: 5000000
B6: Котельная №1
B7: Котельная №2
B8: МиниТЭЦ-№3
A9: Паровая теплосеть стройплощадки | B9: Ясногорская ТЭЦ | C9: 0 | D9: 0 | E9: 0 | F9: 10 | G9: 0 | H9: 0 | I9: 0 | J9: =F9*7141 -> 71410 | K9: Приказ №53 от 12.10.08 г. | L9: 187 | M9: 18000 | R9: 187 | S9: 18000
B10: Котельная №1
B11: Котельная №2
A12: Сети конденсатопроводов стройплощадки | B12: Ясногорская ТЭЦ | C12: 0 | D12: 0 | E12: 0 | F12: 0 | G12: 0 | H12: 0 | I12: 0 | J12: 0 | K12: Приказ №53 от 12.10.08 г. | L12: 1900 | M12: 3000 | R12: 1900 | S12: 3000
A13: Система теплоснабжения п. Строителей | B13: Котельная п. Строителей | C13: 1.6666667 | D13: 0.5 | E13: 1.1666667 | F13: 0 | G13: 100 | H13: =C13*5188 -> 8646.6667 | I13: =D13*8424 -> 4212 | J13: 0 | K13: Приказ №53 от 12.10.08 г. | L13: 71 | M13: 2500 | R13: 71 | S13: 2500
A14: Система теплоснабжения г. Северный | B14: Котельная №1 г. Северный | C14: 5 | D14: 1.1 | E14: 2.1666667 | F14: 0 | G14: 56 | H14: =C14*5188 -> 25940 | I14: =D14*8424 -> 9266.4 | J14: 0 | K14: Приказ №53 от 12.10.08 г. | L14: 81 | M14: 2900 | R14: 81 | S14: 2900
B15: Котельная №2 г. Северный
B16: Котельная №3 г. Северный

Sheet Отопление ЦТП
A1: Отопление помещений ЦТП и насосных станций
A2: Наименование тепловой сети | B2: Наименование отапливаемого помещения ЦТП (НС) | C2: Отапливаемый объём помещения, м куб. | D2: Режим работы ("с постоянным обслуживающим персоналом";"без постоянного обслуживающего персонала") | E2: Температура воздуха внутри помещения, °С | F2: Наименование населённого пункта | G2: Число часов отопления помещения ЦТП(НС) в году, час. | S2: Удельная отопительная характеристика здания ЦТП(НС)
G3: Январь | H3: Февраль | I3: Март | J3: Апрель | K3: Май | L3: Июнь | M3: Июль | N3: Август | O3: Сентябрь | P3: Октябрь | Q3: Ноябрь | R3: Декабрь | S3: Единица измерения ("Вт/(м куб.°С)";"ккал/(м куб.*ч*°С)") | T3: Значение
A4: 1 | B4: 2 | C4: 3 | D4: 4 | E4: 5 | F4: 6 | G4: 7 | H4: 8 | I4: 9 | J4: 10 | K4: 11 | L4: 12 | M4: 13 | N4: 14 | O4: 15 | P4: 16 | Q4: 17 | R4: 18 | S4: 19 | T4: 20
A5: Водяная теплосеть г. Ясногорска | B5: ЦТП-1 | C5: 15000 | D5: с постоянным обслуживающим персоналом | F5: г. Ясногорск | G5: 744 | H5: 672 | I5: 744 | J5: 720 | K5: 500 | L5: 0 | M5: 0 | N5: 0 | O5: 0 | P5: 500 | Q5: 720 | R5: 744
A6: Система теплоснабжения г. Северный | B6: ЦТП-20 | C6: 500 | D6: без постоянного обслуживающего персонала | F6: г. Северный | G6: 744 | H6: 672 | I6: 744 | J6: 720 | K6: 400 | L6: 0 | M6: 0 | N6: 0 | O6: 0 | P6: 400 | Q6: 720 | R6: 744
A7: Система теплоснабжения п. Строителей | B7: ТП-6 | C7: 5600 | D7: с постоянным обслуживающим персоналом | E7: 13 | F7: п. Строителей | G7: 744 | H7: 672 | I7: 744 | J7: 720 | K7: 300 | L7: 0 | M7: 0 | N7: 0 | O7: 0 | P7: 300 | Q7: 720 | R7: 744 | S7: Вт/(м куб.°С) | T7: 1.5
A8: Система теплоснабжения п. Строителей | B8: ТП-7 | C8: 5600 | D8: с постоянным обслуживающим персоналом | E8: 13 | F8: п. Строителей | G8: 744 | H8: 672 | I8: 744 | J8: 720 | K8: 300 | L8: 0 | M8: 0 | N8: 0 | O8: 0 | P8: 300 | Q8: 720 | R8: 744 | S8: ккал/(м куб.*ч*°С) | T8: 1.5

Sheet Баки-ТО
A1: Баки-аккумуляторы и теплообменное оборудование в тепловых сетях
A2: Наименование тепловой сети | B2: Место установки оборудования ("Открытый воздух", "Внутри помещений", или полное наименование отапливаемого помещения ЦТП(НС)) | C2: Температура окружающего воздуха, °С | D2: Наименование бака (теплообменного аппарата) | E2: Год ввода в эксплуатацию | F2: Геометрическая форма ("Цилиндр","Параллелепипед") | G2: Наружные размеры аппарата | J2: Количество аппаратов в группе, шт | K2: Наименование населённого пункта | L2: Теплоноситель ("Вода", "Пар", "Конденсат") | M2: Температурный график/параметры конденсата (или расчетная температура внутри аппарата, °С) | N2: Трубопровод привязки ("Подающий","Обратный") | O2: Число часов работы аппарата в году, час.
G3: Диаметр, м (ширина, м) | H3: Высота, м | I3: Длина, м | O3: Январь | P3: Февраль | Q3: Март | R3: Апрель | S3: Май | T3: Июнь | U3: Июль | V3: Август | W3: Сентябрь | X3: Октябрь | Y3: Ноябрь | Z3: Декабрь
A4: 1 | B4: 2 | C4: 3 | D4: 4 | E4: 5 | F4: 6 | G4: 7 | H4: 8 | I4: 9 | J4: 10 | K4: 11 | L4: 12 | M4: 13 | N4: 14 | O4: 15 | P4: 16 | Q4: 17 | R4: 18 | S4: 19 | T4: 20 | U4: 21 | V4: 22 | W4: 23 | X4: 24 | Y4: 25 | Z4: 26
A5: Водяная теплосеть г. Ясногорска | B5: Открытый воздух | D5: Бак-аккумулятор ГВС | E5: 1989 | F5: Цилиндр | G5: 3 | H5: 10 | J5: 1 | K5: г. Ясногорск | L5: Вода | M5: Температурный график 150/70 °С | N5: Подающий | O5: 744 | P5: 672 | Q5: 744 | R5: 720 | S5: 744 | T5: 720 | U5: 744 | V5: 500 | W5: 720 | X5: 744 | Y5: 720 | Z5: 744
A6: Водяная теплосеть г. Ясногорска | B6: Внутри помещений | C6: 15 | D6: Теплообменник ИТП по ул. Свободы №1 | E6: 1995 | F6: Параллелепипед | G6: 0.2 | H6: 1 | I6: 0.5 | J6: 2 | K6: г. Ясногорск | L6: Вода | M6: Температурный график 95/70 °С для отопления | N6: Обратный | O6: 744 | P6: 672 | Q6: 744 | R6: 720 | S6: 0 | T6: 0 | U6: 0 | V6: 0 | W6: 720 | X6: 744 | Y6: 720 | Z6: 744
A7: Система теплоснабжения п. Строителей | B7: Система теплоснабжения п. Строителей // ТП-7 | D7: Секционный подогреватель | E7: 2005 | F7: Цилиндр | G7: 3 | H7: 10 | J7: 1 | K7: п. Строителей | L7: Вода | M7: Температурный график 65/50 °С для ГВС | N7: Подающий | O7: 744 | P7: 672 | Q7: 744 | R7: 720 | S7: 78 | T7: 0 | U7: 0 | V7: 78 | W7: 720 | X7: 744 | Y7: 720 | Z7: 744
A8: Паровая теплосеть стройплощадки | B8: Открытый воздух | D8: Бойлер ЦТП | E8: 1985 | F8: Цилиндр | G8: 4 | H8: 8 | J8: 1 | K8: г. Ясногорск | L8: Пар | M8: 330 | O8: 744 | P8: 672 | Q8: 744 | R8: 720 | S8: 78 | T8: 50 | U8: 50 | V8: 78 | W8: 720 | X8: 744 | Y8: 720 | Z8: 744
A9: Сети конденсатопроводов стройплощадки | B9: Открытый воздух | D9: Утилизатор конденсата | E9: 1978 | F9: Параллелепипед | G9: 0.5 | H9: 1 | I9: 0.6 | J9: 2 | K9: п. Строителей | L9: Конденсат | M9: Конденсат острого пара, 70°С | O9: 744 | P9: 672 | Q9: 744 | R9: 720 | S9: 78 | T9: 50 | U9: 50 | V9: 78 | W9: 200 | X9: 200 | Y9: 200 | Z9: 200

Sheet НЭХ и ППР тепловых сетей
A1: Нормативные энергетические характеристики и планируемые показатели работы тепловых сетей (для теплосетей более 50 Гкал/час)
A2: Наименование системы теплоснабжения | B2: Тип сводных показателей (Нормативные энергетические характеристики,Планируемые показатели работы) | C2: Расчётные показатели эксплуатации системы теплоснабжения (считываются для НЭХ и для ППР в шаблоне утверждённого периода) | G2: Среднегодовой объем системы теплоснабжения, VНОРМ.СР.Г., м3 | H2: Материальная характеристика участков подземной прокладки, МНОРМ.ПОДЗ, м2 | I2: Материальная характеристика участков надземной прокладки, МНОРМ.НАДЗ, м2 | J2: Материальная характеристика участков прокладки в помещениях (тоннелях), МНОРМ.ПОМ, м2 | K2: Среднегодовая температура теплоносителя в подающем трубопроводе, tНОРМ.ПОД, °C | L2: Среднегодовая температура теплоносителя в обратном трубопроводе, tНОРМ.ОБР, °C | M2: Среднегодовая температура грунта, tНОРМ.ГР, °C | N2: Среднегодовая температура наружного воздуха, tНОРМ.НВ, °C | O2: Среднегодовая температура воздуха в помещениях (тоннелях), tНОРМ.ПОМ, °C | P2: Среднегодовая температура исходной воды, tИСХ.Г, °C | Q2: Продолжительность работы системы теплоснабжения в году, NГОД, ч | R2: Поправочные коэффициенты, полученные по результатам последних испытаний на тепловые потери (при отсутствии типа прокладки указать "0") | U2: Суммарная мощность насосных агрегатов насосных станций или ЦТП, WНОРМ, кВт | V2: Суммарный расход электроэнергии на передачу теплоносителя в тепловой сети, ЕНОРМ, кВт*ч
C3: Годовые потери теплоносителя, GНОРМ.ПСВ, м3 | D3: Среднегодовые тепловые потери через изоляцию по участкам подземной прокладки, QНОРМ.ПОДЗ, Гкал/ч. | E3: Среднегодовые тепловые потери через изоляцию по участкам надземной прокладки, QНОРМ.НАДЗ, Гкал/ч. | F3: Среднегодовые тепловые потери через изоляцию по участкам прокладки в помещениях (тоннелях), QНОРМ.ПОМ, Гкал/ч.
R4: Для участков подземной прокладки, КНОРМ.ПОД | S4: Для участков надземной прокладки, КНОРМ.НАД | T4: Для участков прокладки в помещениях (тоннелях), КНОРМ.ПОМ
A5: 1 | B5: 2 | C5: 3 | D5: 4 | E5: 5 | F5: 6 | G5: 7 | H5: 8 | I5: 9 | J5: 10 | K5: 11 | L5: 12 | M5: 13 | N5: 14 | O5: 15 | P5: 16 | Q5: 17 | R5: 18 | S5: 19 | T5: 20 | U5: 21 | V5: 22
A6: Водяная теплосеть г. Ясногорска | B6: Планируемые показатели работы | G6: 810 | H6: 50000 | I6: 50000 | J6: 50000 | K6: 70 | L6: 50 | M6: 5 | N6: 4.2 | O6: 20 | P6: 9.17 | Q6: 8400 | R6: 1 | S6: 1 | T6: 1 | U6: 200 | V6: 200
A7: Водяная теплосеть г. Ясногорска | B7: Нормативные энергетические характеристики | C7: 78900 | D7: 4500 | E7: 4500 | F7: 7800 | G7: 815.5 | H7: 50112 | I7: 49860 | J7: 47800 | K7: 70 | L7: 50 | M7: 5 | N7: 4.2 | O7: 20 | P7: 9.17 | Q7: 8400 | R7: 1 | S7: 1 | T7: 1 | U7: 200 | V7: 200

Sheet Сведения о САрЗ
A1: Наименование тепловой сети | B1: Наименование прибора автоматики и защиты | C1: Количество приборов, n, шт. | D1: Технически обоснованный расход теплоносителя, сливаемого из САРЗ, m, м3/час (т/час) | E1: Наименование трубопровода, на котором установлены приборы автоматики и защиты (наименование трубопровода должно быть уникальным для данной системы теплоснабжения, с учётом направления движения теплоносителя)
A2: 1 | B2: 2 | C2: 3 | D2: 4 | E2: 5
A3: Водяная теплосеть г. Ясногорска | B3: К-25-ПР-369 | C3: 1 | D3: 5e-06 | E3: ГВС №1
A4: Паровая теплосеть стройплощадки | B4: П-326-ПРК-456 | C4: 4 | D4: 8.5286637e-05 | E4: Участок 9
A5: Сети конденсатопроводов стройплощадки | B5: П-326-ПРК-457 | C5: 2 | D5: 8.5286637e-05 | E5: Транзит до п. Строителей

Sheet Насосное оборудование
A1: Наименование тепловой сети | B1: Наименование насосной станции (ЦТП). Назначение | C1: Продолжительность работы насосной станции (ЦТП), ч | D1: Марка насоса | E1: Место установки насоса | F1: Тип электродвигателя агрегата | G1: Параметры работы в период с характерной температурой наружного воздуха | Q1: Паспортные данные электродвигателей насосов
G2: Характерная температура наружного воздуха (для сетей конденсатопроводов указываем температуру конденсата) | H2: Эксплуатационный температурный график перекачиваемого теплоносителя | I2: Место установки насоса (указать трубопровод:Подающий,Обратный) | J2: Число одновременно находящихся в работе агрегатов, шт. | K2: Диаметр рабочего колеса / диаметр колеса после обрезки, мм | L2: Нормативный расход теплоносителя через насосную станцию (ЦТП), т/ч | M2: Подача насоса, м3/ч. | N2: Напор насоса, м | O2: КПД насоса,% | P2: Число часов работы агрегатов, ч | Q2: Паспортная мощность, кВт | R2: Число оборотов (3000 об/мин или 1500 об/мин) | S2: КПД, %
A3: 1 | B3: 2 | C3: 3 | D3: 4 | E3: 5 | F3: 6 | G3: 7 | H3: 8 | I3: 9 | J3: 10 | K3: 11 | L3: 12 | M3: 13 | N3: 14 | O3: 15 | P3: 16 | Q3: 17 | R3: 18 | S3: 19
A4: Водяная теплосеть г. Ясногорска | B4: ЦТП-1 | C4: 8400 | D4: К-50-80-У | E4: Насос системы отопления | F4: П-48-Ква | G4: 1.5 | H4: Температурный график 95/70 °С для отопления | I4: Подающий | J4: 1 | K4: 456 | L4: 30 | M4: 40 | N4: 16 | O4: 88 | P4: 8400 | Q4: 4500 | R4: 3000 | S4: 80

Sheet Участки тепловых сетей
AF1: Дополнительные параметры для расчёта паропровода | AP1: Дополнительные параметры для конденсатопровода | AS1: Удельный объем трубопровода, м2 | AT1: Месяц проведения пускового заполнения участка после проведения планового ремонта (Январь,Февраль,Март,Апрель,Май,Июнь,Июль,Август,Сентябрь,Октябрь,Ноябрь,Декабрь), при числе пусков больше двух, месяцы их проведения указываются через запятую | AU1: Месяц проведения регламентных испытаний на определение фактических тепловых потерь (Январь,Февраль,Март,Апрель,Май,Июнь,Июль,Август,Сентябрь,Октябрь,Ноябрь,Декабрь) | AV1: Месяц проведения регламентных испытаний на определение фактических гидравлических потерь (Январь,Февраль,Март,Апрель,Май,Июнь,Июль,Август,Сентябрь,Октябрь,Ноябрь,Декабрь) | AW1: Рабочая температура заполняющей сетевой воды при пусковом заполнении участка, °С (или "По графику", для автоматического определения температуры по температурному графику или параметрам конденсата) | AX1: Рабочая температура сетевой воды при проведении испытаний на фактические тепловые потери, °С (или "По графику", для автоматического определения температуры по температурному графику или параметрам конденсата) | AY1: Рабочая температура сетевой воды при проведении гидравлических испытаний , °С | AZ1: Среднегодовые параметры пара на участке (при насыщенном паре достаточно указать либо температуру либо давление пара, а для незаполненного параметра указать "Насыщенный" ) | BD1: Статьи потерь тепловой энергии и теплоносителя, учитываемые для данного участка (для учёта статьи - ввести "да" или оставить ячейку пустой, для отмены расчёта статьи - указать "нет") | BK1: Тип участка системы теплоснабжения по режиму переключения между системами теплоснабжения. Необходимо ввести следующие значения: -"Свой" или пустая ячейка, если указанный в данной строке участок по умолчанию закреплён за системой теплоснабжения, указанной в столбце №2 -"Подключение", если указанный в данной строке участок работает в указанной на данной строке системе теплоснабжения, число часов работы, ограниченное значениями столбцов №18 - №29
G2: Диаметр трубопровода, мм | R2: Число часов работы участка водяной системы теплоснабжения (вместо числа часов, в любом месяце можно указать один трёх наборов режимов работы участков для данного населённого пункта, указанных на листе "Населённые пункты" ) | AD2: Внутренние размеры канала при подземной прокладке | AF2: Условия привязки участка | AH2: Количество гидравлических сопротивлений на участке паропровода, шт. | AM2: Параметры тепловой изоляции | AO2: Тип участка паропровода (Основной,Резервный) | AP2: Параметры паропровода - спутника | AZ2: В начале участка | BB2: В конце участка | BD2: Потери и затраты теплоносителя | BG2: Потери тепловой энергии
A3: Наименование населённого пункта | B3: Наименование тепловой сети | C3: Утвержденный температурный график или параметры конденсата (необходимо предварительно заполнить п. 14 "Вид теплоносителя") | D3: Наименование участка тепловой сети | E3: Протяжённость участка, м | F3: Способ прокладки (Надземная прокладка,Непроходной канал,Бесканальная прокладка,Внутри помещений,Тоннель) | G3: Наружный | H3: Внутренний | I3: Условный | J3: Назначение трубопровода (Отопление,ГВС,Магистраль,Технология,Тепловой ввод) | K3: Назначение трубопровода (Подающий,Обратный) | L3: Поправочный коэффициент К | M3: Год проектирования | N3: Вид теплоносителя (Вода,Пар,Конденсат) | O3: Теплоизоляционный материал (Пенополиуретан, Фенольный поропласт, Полимербетон, другой материал) | P3: Температура воздуха внутри помещений или тоннеля при прокладке в них трубопровода, °С | Q3: Средняя глубина заложения оси трубопроводов Н, м | R3: январь | S3: февраль | T3: март | U3: апрель | V3: май | W3: июнь | X3: июль | Y3: август | Z3: сентябрь | AA3: октябрь | AB3: ноябрь | AC3: декабрь | AD3: высота канала b, м | AE3: ширина канала, h, м | AF3: Точка начала | AG3: Точка конца | AH3: Отвод 90° | AI3: Отвод 30° | AJ3: Тройник на закрытый проход | AK3: Задвижка | AL3: Регулятор | AM3: Толщина тепловой изоляции, м | AN3: Коэффициент теплопроводности, ккал/ч×м×°С | AP3: Точка начала | AQ3: Точка конца | AR3: Наименование системы пароснабжения | AZ3: Давление, ата | BA3: Температура, °С | BB3: Давление, ата | BC3: Температура, °С | BD3: С утечкой | BE3: На пусковое заполнение | BF3: На регламентные испытания | BG3: Через тепловую изоляцию | BH3: С утечкой теплоносителя | BI3: На пусковое заполнение | BJ3: На регламентные испытания
A4: 1 | B4: 2 | C4: 3 | D4: 4 | E4: 5 | F4: 6 | G4: 7 | H4: 8 | I4: 9 | J4: 10 | K4: 11 | L4: 12 | M4: 13 | N4: 14 | O4: 15 | P4: 16 | Q4: 17 | R4: 18 | S4: 19 | T4: 20 | U4: 21 | V4: 22 | W4: 23 | X4: 24 | Y4: 25 | Z4: 26 | AA4: 27 | AB4: 28 | AC4: 29 | AD4: 30 | AE4: 31 | AF4: 32 | AG4: 33 | AH4: 34 | AI4: 35 | AJ4: 36 | AK4: 37 | AL4: 38 | AM4: 39 | AN4: 40 | AO4: 41 | AP4: 42 | AQ4: 43 | AR4: 44 | AS4: 45 | AT4: 46 | AU4: 47 | AV4: 48 | AW4: 49 | AX4: 50 | AY4: 51 | AZ4: 52 | BA4: 53 | BB4: 54 | BC4: 55 | BD4: 56 | BE4: 57 | BF4: 58 | BG4: 59 | BH4: 60 | BI4: 61 | BJ4: 62 | BK4: 63
A5: г. Ясногорск | B5: Водяная теплосеть г. Ясногорска | C5: Температурный график 65/50 °С для ГВС | D5: ГВС №1 | E5: 789 | F5: Надземная прокладка | G5: 57 | H5: 50 | I5: 50 | J5: ГВС | K5: Подающий | L5: 1 | M5: 1970 | N5: Вода | O5: Минеральная вата | Q5: 1.2 | R5: Режим ГВС | AD5: 1 | AE5: 1 | AT5: Июль | AU5: Февраль | AV5: Февраль | AW5: 65 | AX5: 80 | AY5: 45 | BD5: да | BE5: да | BF5: да | BG5: да | BH5: да | BI5: да | BJ5: да
A6: г. Ясногорск | B6: Водяная теплосеть г. Ясногорска | C6: Температурный график 150/70 °С | D6: Участок 1 | E6: =155.81/2 -> 77.905 | F6: Надземная прокладка | G6: 157 | H6: =VLOOKUP(G6,Диаметры,2,FALSE) -> 150 | I6: =VLOOKUP(G6,Диаметры,3,FALSE) -> 150 | J6: Магистраль | K6: Подающий | L6: 1 | M6: 2000 | N6: Вода | O6: Минеральная вата | Q6: 1.2 | R6: Режим отопления | AD6: 1 | AE6: 1 | AT6: Июль | AU6: Январь | AV6: Январь | AW6: 75 | AX6: 85 | AY6: 3 | BD6: да | BE6: да | BF6: да | BG6: да | BH6: да | BI6: да | BJ6: да
A7: г. Ясногорск | B7: Водяная теплосеть г. Ясногорска | C7: Температурный график 150/70 °С | D7: Участок 1 | E7: =155.81/2 -> 77.905 | F7: Надземная прокладка | G7: 157 | H7: =VLOOKUP(G7,Диаметры,2,FALSE) -> 150 | I7: =VLOOKUP(G7,Диаметры,3,FALSE) -> 150 | J7: Магистраль | K7: Обратный | L7: 1 | M7: 2000 | N7: Вода | O7: Минеральная вата | Q7: 2.2 | R7: 744 | S7: =28*24 -> 672 | T7: 744 | U7: 320 | V7: 500 | W7: 500 | X7: 500 | Y7: 500 | Z7: 500 | AA7: 744 | AB7: 720 | AC7: 744 | AD7: 2 | AE7: 2 | AT7: Сентябрь | AU7: Февраль | AV7: Февраль | AW7: По графику | AX7: По графику | AY7: 35 | BD7: да | BE7: да | BF7: да | BG7: да | BH7: да | BI7: да | BJ7: да
A8: г. Ясногорск | B8: Водяная теплосеть г. Ясногорска | C8: Температурный график 150/70 °С | D8: Участок 3 | E8: =234.19/2 -> 117.095 | F8: Надземная прокладка | G8: 108 | H8: =VLOOKUP(G8,Диаметры,2,FALSE) -> 100 | I8: =VLOOKUP(G8,Диаметры,3,FALSE) -> 100 | J8: Магистраль | K8: Подающий | L8: 1 | M8: 2000 | N8: Вода | O8: Минеральная вата | Q8: 1.2 | R8: 744 | S8: =28*24 -> 672 | T8: 744 | U8: 320 | V8: 500 | W8: 500 | X8: 500 | Y8: 500 | Z8: 500 | AA8: 744 | AB8: 720 | AC8: 744 | AD8: 1 | AE8: 1 | AT8: Июль | AU8: Февраль | AV8: Февраль | AW8: По графику | AX8: По графику | AY8: 35 | BD8: да | BE8: да | BF8: да | BG8: да | BH8: да | BI8: да | BJ8: да
A9: г. Ясногорск | B9: Водяная теплосеть г. Ясногорска | C9: Температурный график 150/70 °С | D9: Участок 3 | E9: =234.19/2 -> 117.095 | F9: Надземная прокладка | G9: 108 | H9: =VLOOKUP(G9,Диаметры,2,FALSE) -> 100 | I9: =VLOOKUP(G9,Диаметры,3,FALSE) -> 100 | J9: Магистраль | K9: Обратный | L9: 1 | M9: 2000 | N9: Вода | O9: Минеральная вата | Q9: 2.2 | R9: 744 | S9: =28*24 -> 672 | T9: 744 | U9: 320 | V9: 500 | W9: 500 | X9: 500 | Y9: 500 | Z9: 500 | AA9: 744 | AB9: 720 | AC9: 744 | AD9: 2 | AE9: 2 | AT9: Август | AU9: Февраль | AV9: Февраль | AW9: По графику | AX9: По графику | AY9: 35 | BD9: да | BE9: да | BF9: да | BG9: да | BH9: да | BI9: да | BJ9: да
A10: г. Ясногорск | B10: Водяная теплосеть г. Ясногорска | C10: Температурный график 150/70 °С | D10: Участок 5 | E10: 791 | F10: Внутри помещений | G10: 32 | H10: =VLOOKUP(G10,Диаметры,2,FALSE) -> 26.9 | I10: =VLOOKUP(G10,Диаметры,3,FALSE) -> 25 | J10: Магистраль | K10: Подающий | L10: 1 | M10: 1970 | N10: Вода | O10: Минеральная вата | P10: 16.5 | Q10: 3.2 | R10: 744 | S10: =28*24 -> 672 | T10: 744 | U10: 320 | V10: 500 | W10: 500 | X10: 500 | Y10: 500 | Z10: 500 | AA10: 744 | AB10: 720 | AC10: 744 | AD10: 3 | AE10: 3 | AT10: Сентябрь | AU10: Февраль | AV10: Февраль | AW10: По графику | AX10: По графику | AY10: 35 | BD10: да | BE10: да | BF10: да | BG10: да | BH10: да | BI10: да | BJ10: да
A11: г. Ясногорск | B11: Водяная теплосеть г. Ясногорска | C11: Температурный график 150/70 °С | D11: Участок 5 | E11: 792 | F11: Тоннель | G11: 32 | H11: =VLOOKUP(G11,Диаметры,2,FALSE) -> 26.9 | I11: =VLOOKUP(G11,Диаметры,3,FALSE) -> 25 | J11: Магистраль | K11: Обратный | L11: 1 | M11: 1995 | N11: Вода | O11: Минеральная вата | P11: 16.5 | Q11: 4.2 | R11: 744 | S11: =28*24 -> 672 | T11: 744 | U11: 320 | V11: 500 | W11: 500 | X11: 500 | Y11: 500 | Z11: 500 | AA11: 744 | AB11: 720 | AC11: 744 | AD11: 4 | AE11: 4 | AT11: Октябрь | AU11: Февраль | AV11: Февраль | AW11: По графику | AX11: По графику | AY11: 35 | BD11: да | BE11: да | BF11: да | BG11: да | BH11: да | BI11: да | BJ11: да
A12: г. Ясногорск | B12: Водяная теплосеть г. Ясногорска | C12: Температурный график 65/50 °С для ГВС | D12: ГВС №1 | E12: 789 | F12: Надземная прокладка | G12: 32 | H12: 25 | I12: 25 | J12: ГВС | K12: Обратный | L12: 1 | M12: 1995 | N12: Вода | O12: Минеральная вата | Q12: 1.2 | R12: 744 | S12: =28*24 -> 672 | T12: 744 | U12: 720 | V12: 744 | W12: 650 | X12: 650 | Y12: 744 | Z12: 720 | AA12: 744 | AB12: 720 | AC12: 744 | AD12: 1 | AE12: 1 | AT12: Июль | AU12: Февраль | AV12: Февраль | AW12: По графику | AX12: По графику | AY12: 35 | BD12: да | BE12: да | BF12: да | BG12: да | BH12: да | BI12: да | BJ12: да
A13: г. Ясногорск | B13: Водяная теплосеть г. Ясногорска | C13: Температурный график 150/70 °С | D13: Участок 7 | E13: 789 | F13: Непроходной канал | G13: 32 | H13: =VLOOKUP(G13,Диаметры,2,FALSE) -> 26.9 | I13: =VLOOKUP(G13,Диаметры,3,FALSE) -> 25 | J13: Магистраль | K13: Подающий | L13: 1 | M13: 1995 | N13: Вода | O13: Минеральная вата | Q13: 1.2 | R13: 744 | S13: =28*24 -> 672 | T13: 744 | U13: 320 | V13: 500 | W13: 500 | X13: 500 | Y13: 500 | Z13: 500 | AA13: 744 | AB13: 720 | AC13: 744 | AD13: 1 | AE13: 1 | AT13: Июль | AU13: Февраль | AV13: Февраль | AW13: По графику | AX13: По графику | AY13: 35 | BD13: да | BE13: да | BF13: да | BG13: да | BH13: да | BI13: да | BJ13: да
A14: г. Ясногорск | B14: Водяная теплосеть г. Ясногорска | C14: Температурный график 150/70 °С | D14: Участок 8 | E14: 790 | F14: Бесканальная прокладка | G14: 32 | H14: =VLOOKUP(G14,Диаметры,2,FALSE) -> 26.9 | I14: =VLOOKUP(G14,Диаметры,3,FALSE) -> 25 | J14: Магистраль | K14: Обратный | L14: 1 | M14: 1995 | N14: Вода | O14: Минеральная вата | Q14: 2.2 | R14: 744 | S14: =28*24 -> 672 | T14: 744 | U14: 320 | V14: 500 | W14: 500 | X14: 500 | Y14: 500 | Z14: 500 | AA14: 744 | AB14: 720 | AC14: 744 | AD14: 2 | AE14: 2 | AT14: Август | AU14: Февраль | AV14: Февраль | AW14: По графику | AX14: По графику | AY14: 35 | BD14: да | BE14: да | BF14: да | BG14: да | BH14: да | BI14: да | BJ14: да
A15: г. Ясногорск | B15: Водяная теплосеть г. Ясногорска | C15: Температурный график 150/70 °С | D15: Участок 9 | E15: 791 | F15: Внутри помещений | G15: 32 | H15: =VLOOKUP(G15,Диаметры,2,FALSE) -> 26.9 | I15: =VLOOKUP(G15,Диаметры,3,FALSE) -> 25 | J15: Магистраль | K15: Подающий | L15: 1 | M15: 1995 | N15: Вода | O15: Минеральная вата | P15: 16.5 | Q15: 3.2 | R15: 744 | S15: =28*24 -> 672 | T15: 744 | U15: 320 | V15: 500 | W15: 500 | X15: 500 | Y15: 500 | Z15: 500 | AA15: 744 | AB15: 720 | AC15: 744 | AD15: 3 | AE15: 3 | AT15: Сентябрь | AU15: Февраль | AV15: Февраль | AW15: По графику | AX15: По графику | AY15: 35 | BD15: да | BE15: да | BF15: да | BG15: да | BH15: да | BI15: да | BJ15: да
A16: г. Ясногорск | B16: Водяная теплосеть г. Ясногорска | C16: Температурный график 95/70 °С для отопления | D16: Участок 10 | E16: 792 | F16: Тоннель | G16: 32 | H16: 25 | I16: 25 | J16: Отопление | K16: Обратный | L16: 1 | M16: 1995 | N16: Вода | O16: Минеральная вата | P16: 16.5 | Q16: 4.2 | R16: 744 | S16: =28*24 -> 672 | T16: 744 | U16: 320 | Z16: 320 | AA16: 744 | AB16: 720 | AC16: 744 | AD16: 4 | AE16: 4 | AT16: Октябрь | AU16: Февраль | AV16: Февраль | AW16: По графику | AX16: По графику | AY16: 35 | BD16: да | BE16: да | BF16: да | BG16: да | BH16: да | BI16: да | BJ16: да
A17: г. Ясногорск | B17: Водяная теплосеть г. Ясногорска | C17: Температурный график 65/50 °С для ГВС | D17: ГВС 2 | E17: 789 | F17: Надземная прокладка | G17: 32 | H17: 25 | I17: 25 | J17: ГВС | K17: Обратный | L17: 1 | M17: 2002 | N17: Вода | O17: Минеральная вата | Q17: 1.2 | R17: 744 | S17: =28*24 -> 672 | T17: 744 | U17: 720 | V17: 744 | W17: 650 | X17: 650 | Y17: 744 | Z17: 720 | AA17: 744 | AB17: 720 | AC17: 744 | AD17: 1 | AE17: 1 | AT17: Июль | AU17: Февраль | AV17: Февраль | AW17: По графику | AX17: По графику | AY17: 35 | BD17: да | BE17: да | BF17: да | BG17: да | BH17: да | BI17: да | BJ17: да
A18: г. Ясногорск | B18: Водяная теплосеть г. Ясногорска | C18: Температурный график 95/70 °С для отопления | D18: Участок 11 | E18: 789 | F18: Непроходной канал | G18: 32 | H18: 25 | I18: 25 | J18: Отопление | K18: Подающий | L18: 1 | M18: 2002 | N18: Вода | O18: Минеральная вата | Q18: 1.2 | R18: 744 | S18: =28*24 -> 672 | T18: 744 | U18: 320 | Z18: 320 | AA18: 744 | AB18: 720 | AC18: 744 | AD18: 1 | AE18: 1 | AT18: Июль | AU18: Февраль | AV18: Февраль | AW18: По графику | AX18: По графику | AY18: 35 | BD18: да | BE18: да | BF18: да | BG18: да | BH18: да | BI18: да | BJ18: да
A19: г. Ясногорск | B19: Водяная теплосеть г. Ясногорска | C19: Температурный график 95/70 °С для отопления | D19: Участок 12 | E19: 790 | F19: Бесканальная прокладка | G19: 32 | H19: 25 | I19: 25 | J19: Отопление | K19: Обратный | L19: 1 | M19: 2002 | N19: Вода | O19: Минеральная вата | Q19: 2.2 | R19: 744 | S19: =28*24 -> 672 | T19: 744 | U19: 320 | Z19: 320 | AA19: 744 | AB19: 720 | AC19: 744 | AD19: 2 | AE19: 2 | AT19: Август | AU19: Февраль | AV19: Февраль | AW19: По графику | AX19: По графику | AY19: 35 | BD19: да | BE19: да | BF19: да | BG19: да | BH19: да | BI19: да | BJ19: да
A20: г. Ясногорск | B20: Водяная теплосеть г. Ясногорска | C20: Температурный график 95/70 °С для отопления | D20: Участок 13 | E20: 791 | F20: Внутри помещений | G20: 32 | H20: 25 | I20: 25 | J20: Отопление | K20: Подающий | L20: 1 | M20: 2002 | N20: Вода | O20: Минеральная вата | P20: 16.5 | Q20: 3.2 | R20: 744 | S20: =28*24 -> 672 | T20: 744 | U20: 320 | Z20: 320 | AA20: 744 | AB20: 720 | AC20: 744 | AD20: 3 | AE20: 3 | AT20: Сентябрь | AU20: Февраль | AV20: Февраль | AW20: По графику | AX20: По графику | AY20: 35 | BD20: да | BE20: да | BF20: да | BG20: да | BH20: да | BI20: да | BJ20: да
A21: г. Ясногорск | B21: Водяная теплосеть г. Ясногорска | C21: Температурный график 95/70 °С для отопления | D21: Участок 14 | E21: 792 | F21: Тоннель | G21: 32 | H21: 25 | I21: 25 | J21: Отопление | K21: Обратный | L21: 1 | M21: 2002 | N21: Вода | O21: Минеральная вата | P21: 16.5 | Q21: 4.2 | R21: 744 | S21: =28*24 -> 672 | T21: 744 | U21: 320 | Z21: 320 | AA21: 744 | AB21: 720 | AC21: 744 | AD21: 4 | AE21: 4 | AT21: Октябрь | AU21: Февраль | AV21: Февраль | AW21: По графику | AX21: По графику | AY21: 35 | BD21: да | BE21: да | BF21: да | BG21: да | BH21: да | BI21: да | BJ21: да
A22: г. Ясногорск | B22: Водяная теплосеть г. Ясногорска | C22: Температурный график 65/50 °С для ГВС | D22: ГВС №2 | E22: 789 | F22: Надземная прокладка | G22: 32 | H22: 25 | I22: 25 | J22: ГВС | K22: Подающий | L22: 1 | M22: 2008 | N22: Вода | O22: Минеральная вата | Q22: 1.2 | R22: 744 | S22: =28*24 -> 672 | T22: 744 | U22: 720 | V22: 744 | W22: 650 | X22: 650 | Y22: 744 | Z22: 720 | AA22: 744 | AB22: 720 | AC22: 744 | AD22: 1 | AE22: 1 | AT22: Июль | AU22: Февраль | AV22: Февраль | AW22: По графику | AX22: По графику | AY22: 35 | BD22: да | BE22: да | BF22: да | BG22: да | BH22: да | BI22: да | BJ22: да
A23: г. Ясногорск | B23: Водяная теплосеть г. Ясногорска | C23: Температурный график 95/70 °С для отопления | D23: Участок 15 | E23: 789 | F23: Непроходной канал | G23: 32 | H23: 25 | I23: 25 | J23: Отопление | K23: Подающий | L23: 1 | M23: 2008 | N23: Вода | O23: Минеральная вата | Q23: 1.2 | R23: 744 | S23: =28*24 -> 672 | T23: 744 | U23: 320 | Z23: 320 | AA23: 744 | AB23: 720 | AC23: 744 | AD23: 1 | AE23: 1 | AT23: Июль | AU23: Февраль | AV23: Февраль | AW23: По графику | AX23: По графику | AY23: 35 | BD23: да | BE23: да | BF23: да | BG23: да | BH23: да | BI23: да | BJ23: да
A24: г. Ясногорск | B24: Водяная теплосеть г. Ясногорска | C24: Температурный график 95/70 °С для отопления | D24: Участок 16 | E24: 790 | F24: Бесканальная прокладка | G24: 32 | H24: 25 | I24: 25 | J24: Отопление | K24: Обратный | L24: 1 | M24: 2008 | N24: Вода | O24: Минеральная вата | Q24: 2.2 | R24: 744 | S24: =28*24 -> 672 | T24: 744 | U24: 320 | Z24: 320 | AA24: 744 | AB24: 720 | AC24: 744 | AD24: 2 | AE24: 2 | AT24: Август | AU24: Февраль | AV24: Февраль | AW24: По графику | AX24: По графику | AY24: 35 | BD24: да | BE24: да | BF24: да | BG24: да | BH24: да | BI24: да | BJ24: да
A25: г. Ясногорск | B25: Водяная теплосеть г. Ясногорска | C25: Температурный график 95/70 °С для отопления | D25: Участок 17 | E25: 791 | F25: Внутри помещений | G25: 32 | H25: 25 | I25: 25 | J25: Отопление | K25: Подающий | L25: 1 | M25: 2008 | N25: Вода | O25: Минеральная вата | P25: 16.5 | Q25: 3.2 | R25: 744 | S25: =28*24 -> 672 | T25: 744 | U25: 320 | Z25: 320 | AA25: 744 | AB25: 720 | AC25: 744 | AD25: 3 | AE25: 3 | AT25: Сентябрь | AU25: Февраль | AV25: Февраль | AW25: По графику | AX25: По графику | AY25: 35 | BD25: да | BE25: да | BF25: да | BG25: да | BH25: да | BI25: да | BJ25: да
A26: г. Ясногорск | B26: Водяная теплосеть г. Ясногорска | C26: Температурный график 95/70 °С для отопления | D26: Участок 18 | E26: 792 | F26: Тоннель | G26: 32 | H26: 25 | I26: 25 | J26: Отопление | K26: Обратный | L26: 1 | M26: 2008 | N26: Вода | O26: Минеральная вата | P26: 16.5 | Q26: 4.2 | R26: 744 | S26: =28*24 -> 672 | T26: 744 | U26: 320 | Z26: 320 | AA26: 744 | AB26: 720 | AC26: 744 | AD26: 4 | AE26: 4 | AT26: Октябрь | AU26: Февраль | AV26: Февраль | AW26: По графику | AX26: По графику | AY26: 35 | BD26: да | BE26: да | BF26: да | BG26: да | BH26: да | BI26: да | BJ26: да
A27: п. Строителей | B27: Система теплоснабжения п. Строителей | C27: Температурный график 95/70 °С для отопления | D27: Участок 19 | E27: 792 | F27: Тоннель | G27: 32 | H27: 25 | I27: 25 | J27: Отопление | K27: Обратный | L27: 1 | M27: 2008 | N27: Вода | O27: Минеральная вата | P27: 16.5 | Q27: 4.2 | R27: 744 | S27: =28*24 -> 672 | T27: 744 | U27: 320 | Z27: 320 | AA27: 744 | AB27: 720 | AC27: 744 | AD27: 4 | AE27: 4 | AT27: Октябрь | AU27: Февраль | AV27: Февраль | AW27: По графику | AX27: По графику | AY27: 35 | BD27: да | BE27: да | BF27: да | BG27: да | BH27: да | BI27: да | BJ27: да
A28: п. Строителей | B28: Система теплоснабжения п. Строителей | C28: Температурный график 95/70 °С для отопления | D28: Участок 20 | E28: 792 | F28: Тоннель | G28: 32 | H28: 25 | I28: 25 | J28: Отопление | K28: Обратный | L28: 1 | M28: 2008 | N28: Вода | O28: Минеральная вата | P28: 16.5 | Q28: 4.2 | R28: 744 | S28: =28*24 -> 672 | T28: 744 | U28: 320 | Z28: 320 | AA28: 744 | AB28: 720 | AC28: 744 | AD28: 4 | AE28: 4 | AT28: Октябрь | AU28: Февраль | AV28: Февраль | AW28: По графику | AX28: По графику | AY28: 35 | BD28: да | BE28: да | BF28: да | BG28: да | BH28: да | BI28: да | BJ28: да
A29: п. Строителей | B29: Система теплоснабжения п. Строителей | C29: Температурный график 95/70 °С для отопления | D29: Участок 21 | E29: 792 | F29: Тоннель | G29: 32 | H29: 25 | I29: 25 | J29: Отопление | K29: Обратный | L29: 1 | M29: 2008 | N29: Вода | O29: Минеральная вата | P29: 16.5 | Q29: 4.2 | R29: 744 | S29: =28*24 -> 672 | T29: 744 | U29: 320 | Z29: 320 | AA29: 744 | AB29: 720 | AC29: 744 | AD29: 4 | AE29: 4 | AT29: Октябрь | AU29: Февраль | AV29: Февраль | AW29: По графику | AX29: По графику | AY29: 35 | BD29: да | BE29: да | BF29: да | BG29: да | BH29: да | BI29: да | BJ29: да
A30: п. Строителей | B30: Система теплоснабжения п. Строителей | C30: Температурный график 95/70 °С для отопления | D30: Участок 22 | E30: 792 | F30: Тоннель | G30: 32 | H30: 25 | I30: 25 | J30: Отопление | K30: Обратный | L30: 1 | M30: 2008 | N30: Вода | O30: Минеральная вата | P30: 16.5 | Q30: 4.2 | R30: 744 | S30: =28*24 -> 672 | T30: 744 | U30: 320 | Z30: 320 | AA30: 744 | AB30: 720 | AC30: 744 | AD30: 4 | AE30: 4 | AT30: Октябрь | AU30: Февраль | AV30: Февраль | AW30: По графику | AX30: По графику | AY30: 35 | BD30: да | BE30: да | BF30: да | BG30: да | BH30: да | BI30: да | BJ30: да
A31: п. Строителей | B31: Система теплоснабжения п. Строителей | C31: Температурный график 95/70 °С для отопления | D31: Участок 23 | E31: 792 | F31: Тоннель | G31: 32 | H31: 25 | I31: 25 | J31: Отопление | K31: Обратный | L31: 1 | M31: 2008 | N31: Вода | O31: Минеральная вата | P31: 16.5 | Q31: 4.2 | R31: 744 | S31: =28*24 -> 672 | T31: 744 | U31: 320 | Z31: 320 | AA31: 744 | AB31: 720 | AC31: 744 | AD31: 4 | AE31: 4 | AT31: Октябрь | AU31: Февраль | AV31: Февраль | AW31: По графику | AX31: По графику | AY31: 35 | BD31: да | BE31: да | BF31: да | BG31: да | BH31: да | BI31: да | BJ31: да
A32: п. Строителей | B32: Система теплоснабжения п. Строителей | C32: Температурный график 95/70 °С для отопления | D32: Участок 24 | E32: 792 | F32: Тоннель | G32: 32 | H32: 25 | I32: 25 | J32: Отопление | K32: Обратный | L32: 1 | M32: 2008 | N32: Вода | O32: Минеральная вата | P32: 16.5 | Q32: 4.2 | R32: 744 | S32: =28*24 -> 672 | T32: 744 | U32: 320 | Z32: 320 | AA32: 744 | AB32: 720 | AC32: 744 | AD32: 4 | AE32: 4 | AT32: Октябрь | AU32: Февраль | AV32: Февраль | AW32: По графику | AX32: По графику | AY32: 35 | BD32: да | BE32: да | BF32: да | BG32: да | BH32: да | BI32: да | BJ32: да
A33: п. Строителей | B33: Система теплоснабжения п. Строителей | C33: Температурный график 95/70 °С для отопления | D33: Участок 25 | E33: 792 | F33: Тоннель | G33: 32 | H33: 25 | I33: 25 | J33: Отопление | K33: Обратный | L33: 1 | M33: 2008 | N33: Вода | O33: Минеральная вата | P33: 16.5 | Q33: 4.2 | R33: 744 | S33: =28*24 -> 672 | T33: 744 | U33: 320 | Z33: 320 | AA33: 744 | AB33: 720 | AC33: 744 | AD33: 4 | AE33: 4 | AT33: Октябрь | AU33: Февраль | AV33: Февраль | AW33: По графику | AX33: По графику | AY33: 35 | BD33: да | BE33: да | BF33: да | BG33: да | BH33: да | BI33: да | BJ33: да
A34: п. Строителей | B34: Система теплоснабжения п. Строителей | C34: Температурный график 95/70 °С для отопления | D34: Участок 26 | E34: 792 | F34: Тоннель | G34: 32 | H34: 25 | I34: 25 | J34: Отопление | K34: Обратный | L34: 1 | M34: 2008 | N34: Вода | O34: Минеральная вата | P34: 16.5 | Q34: 4.2 | R34: 744 | S34: =28*24 -> 672 | T34: 744 | U34: 320 | Z34: 320 | AA34: 744 | AB34: 720 | AC34: 744 | AD34: 4 | AE34: 4 | AT34: Октябрь | AU34: Февраль | AV34: Февраль | AW34: По графику | AX34: По графику | AY34: 35 | BD34: да | BE34: да | BF34: да | BG34: да | BH34: да | BI34: да | BJ34: да
A35: г. Северный | B35: Система теплоснабжения г. Северный | C35: Температурный график 95/70 °С для отопления | D35: Участок 27 | E35: 792 | F35: Тоннель | G35: 32 | H35: 25 | I35: 25 | J35: Отопление | K35: Обратный | L35: 1 | M35: 2008 | N35: Вода | O35: Минеральная вата | P35: 16.5 | Q35: 4.2 | R35: 744 | S35: =28*24 -> 672 | T35: 744 | U35: 320 | Z35: 320 | AA35: 744 | AB35: 720 | AC35: 744 | AD35: 4 | AE35: 4 | AT35: Октябрь | AU35: Февраль | AV35: Февраль | AW35: По графику | AX35: По графику | AY35: 35
A36: г. Северный | B36: Система теплоснабжения г. Северный | C36: Температурный график 95/70 °С для отопления | D36: Участок 28 | E36: 792 | F36: Тоннель | G36: 32 | H36: 25 | I36: 25 | J36: Отопление | K36: Обратный | L36: 1 | M36: 2008 | N36: Вода | O36: Минеральная вата | P36: 16.5 | Q36: 4.2 | R36: 744 | S36: =28*24 -> 672 | T36: 744 | U36: 320 | Z36: 320 | AA36: 744 | AB36: 720 | AC36: 744 | AD36: 4 | AE36: 4 | AT36: Октябрь | AU36: Февраль | AV36: Февраль | AW36: По графику | AX36: По графику | AY36: 35
A37: г. Северный | B37: Система теплоснабжения г. Северный | C37: Температурный график 95/70 °С для отопления | D37: Участок 29 | E37: 792 | F37: Тоннель | G37: 32 | H37: 25 | I37: 25 | J37: Отопление | K37: Обратный | L37: 1 | M37: 2008 | N37: Вода | O37: Минеральная вата | P37: 16.5 | Q37: 4.2 | R37: 744 | S37: =28*24 -> 672 | T37: 744 | U37: 320 | Z37: 320 | AA37: 744 | AB37: 720 | AC37: 744 | AD37: 4 | AE37: 4 | AT37: Октябрь | AU37: Октябрь | AV37: Февраль | AW37: По графику | AX37: По графику | AY37: 35
A38: г. Северный | B38: Система теплоснабжения г. Северный | C38: Температурный график 95/70 °С для отопления | D38: Участок 30 | E38: 792 | F38: Тоннель | G38: 32 | H38: 25 | I38: 25 | J38: Отопление | K38: Обратный | L38: 1 | M38: 2008 | N38: Вода | O38: Минеральная вата | P38: 16.5 | Q38: 4.2 | R38: 744 | S38: =28*24 -> 672 | T38: 744 | U38: 320 | Z38: 320 | AA38: 744 | AB38: 720 | AC38: 744 | AD38: 4 | AE38: 4 | AT38: Октябрь | AU38: Февраль | AV38: Февраль | AW38: По графику | AX38: По графику | AY38: 35
A39: г. Северный | B39: Система теплоснабжения г. Северный | C39: Температурный график 95/70 °С для отопления | D39: Участок 31 | E39: 792 | F39: Тоннель | G39: 32 | H39: 25 | I39: 25 | J39: Отопление | K39: Обратный | L39: 1 | M39: 2008 | N39: Вода | O39: Минеральная вата | P39: 16.5 | Q39: 4.2 | R39: 744 | S39: =28*24 -> 672 | T39: 744 | U39: 320 | Z39: 320 | AA39: 744 | AB39: 720 | AC39: 744 | AD39: 4 | AE39: 4 | AT39: Октябрь | AU39: Октябрь | AV39: Февраль | AW39: По графику | AX39: По графику | AY39: 35
A40: г. Северный | B40: Система теплоснабжения г. Северный | C40: Температурный график 95/70 °С для отопления | D40: Участок 32 | E40: 792 | F40: Тоннель | G40: 32 | H40: 25 | I40: 25 | J40: Отопление | K40: Обратный | L40: 1 | M40: 2008 | N40: Вода | O40: Минеральная вата | P40: 16.5 | Q40: 4.2 | R40: 744 | S40: =28*24 -> 672 | T40: 744 | U40: 320 | Z40: 320 | AA40: 744 | AB40: 720 | AC40: 744 | AD40: 4 | AE40: 4 | AT40: Октябрь | AU40: Февраль | AV40: Февраль | AW40: По графику | AX40: По графику | AY40: 35
...

Sheet Режимы работы паровых сетей
A1: Потребители пара
A2: Наименование потребителя: | B2: Стройплощадка г. Ясногорска №1 | C2: Стройплощадка г. Ясногорска №2 | D2: Стройплощадка г. Ясногорска №3 | E2: Стройплощадка п. Строителей №1 | F2: Стройплощадка п. Строителей №2 | G2: Стройплощадка п. Строителей №3 | H2: Стройплощадка п. Строителей №4 | I2: Стройплощадка г. Ясногорска №1а | J2: Завод ЖБИ №1
A3: Наименование тепловой сети | B3: Паровая теплосеть стройплощадки | C3: Паровая теплосеть стройплощадки | D3: Паровая теплосеть стройплощадки | E3: Паровая теплосеть стройплощадки | F3: Паровая теплосеть стройплощадки | G3: Паровая теплосеть стройплощадки | H3: Паровая теплосеть стройплощадки | I3: Паровая теплосеть стройплощадки | J3: Паровая теплосеть стройплощадки
A4: Точка теплового ввода, № | B4: 13 | C4: 15 | D4: 16 | E4: 8 | F4: 9 | G4: 10 | H4: 14 | I4: 17 | J4: 19
A5: Месяц | B5: Расход пара, т/ч | C5: Расход пара, т/ч | D5: Расход пара, т/ч | E5: Расход пара, т/ч | F5: Расход пара, т/ч | G5: Расход пара, т/ч | H5: Расход пара, т/ч | I5: Расход пара, т/ч | J5: Расход пара, т/ч
A6: январь | B6: 3 | C6: 5 | D6: 6 | E6: 3 | F6: 2 | G6: 1.5 | H6: 1.6 | I6: 1.5 | J6: 4.6
A7: февраль | B7: 3 | C7: 5 | D7: 6.4 | E7: 3 | F7: 2 | G7: 1.5 | H7: 1.6 | I7: 1.5 | J7: 4.58
A8: март | B8: 3.06 | C8: 5 | D8: 6.5 | E8: 3 | F8: 2 | G8: 1.5 | H8: 1.6 | I8: 1.5 | J8: 4.6
A9: апрель | B9: 3.05 | C9: 5 | D9: 5 | E9: 3 | F9: 2 | G9: 1.5 | H9: 1.6 | I9: 1.8 | J9: 4.05
A10: май | B10: 3 | C10: 5 | D10: 5 | E10: 3 | F10: 4.5 | G10: 1.6 | H10: 1.6 | I10: 1.5 | J10: 4.6
A11: июнь | B11: 3 | C11: 5 | D11: 5 | E11: 3 | F11: 3 | G11: 1.8 | H11: 1.8 | I11: 1.5 | J11: 4.6
A12: июль | B12: 3.06 | C12: 4.5 | D12: 5 | E12: 3 | F12: 3 | G12: 1.7 | H12: 1.7 | I12: 1.5 | J12: 3.7
A13: август | B13: 3.08 | C13: 4.5 | D13: 5 | E13: 3 | F13: 2.5 | G13: 1.9 | H13: 1.9 | I13: 1.5 | J13: 4.6
A14: сентябрь | B14: 3 | C14: 4.5 | D14: 5 | E14: 3 | F14: 2.5 | G14: 1.5 | H14: 2 | I14: 1.45 | J14: 4.3
A15: октябрь | B15: 3.07 | C15: 5 | D15: 5 | E15: 3 | F15: 2.5 | G15: 1.6 | H15: 2 | I15: 1.5 | J15: 4.6
A16: ноябрь | B16: 3 | C16: 5 | D16: 7 | E16: 3 | F16: 3 | G16: 1.5 | H16: 2 | I16: 1.38 | J16: 4.5
A17: декабрь | B17: 3 | C17: 5 | D17: 7 | E17: 3 | F17: 3 | G17: 1.5 | H17: 2 | I17: 1.5 | J17: 4.6
A18: Тепловые выводы пара в систему пароснабжения (при насыщенном паре достаточно указать либо температуру либо давление пара, а для незаполненного параметра указать "Насыщенный" )
A19: Месяц | B19: Наименование вывода | C19: Ясногорская ТЭЦ | D19: Наименование вывода | E19: Котельная №1 | F19: Наименование вывода | G19: Котельная №2 | H19: Наименование вывода | I19: Ясногорская ТЭЦ вывод на ЖБИ №1
B20: Наименование тепловой сети | C20: Паровая теплосеть стройплощадки | D20: Наименование тепловой сети | E20: Паровая теплосеть стройплощадки | F20: Наименование тепловой сети | G20: Паровая теплосеть стройплощадки | H20: Наименование тепловой сети | I20: Паровая теплосеть стройплощадки
B21: Точка теплового вывода, № | C21: 1 | D21: Точка теплового вывода, № | E21: 2 | F21: Точка теплового вывода, № | G21: 3 | H21: Точка теплового вывода, № | I21: 18
B22: Среднегодовая доля отправляемого в сеть пара, % | C22: 75 | D22: Среднегодовая доля отправляемого в сеть пара, % | E22: 15 | F22: Среднегодовая доля отправляемого в сеть пара, % | G22: 10 | H22: Среднегодовая доля отправляемого в сеть пара, % | I22: 100
B23: Температура теплоносителя, °С | C23: Абсолютное давление теплоносителя, ата | D23: Температура теплоносителя, °С | E23: Абсолютное давление теплоносителя, ата | F23: Температура теплоносителя, °С | G23: Абсолютное давление теплоносителя, ата | H23: Температура теплоносителя, °С | I23: Абсолютное давление теплоносителя, ата
A24: Январь | B24: 350 | C24: 10 | D24: 300 | E24: 9.8 | F24: 300 | G24: 9.8 | H24: 160 | I24: Насыщенный
A25: Февраль | B25: 340 | C25: 9.8 | D25: 300 | E25: 9.8 | F25: 290 | G25: 9.7 | H25: 160 | I25: Насыщенный
A26: Март | B26: 320 | C26: 9.9 | D26: 300 | E26: 9.6 | F26: 290 | G26: 9.7 | H26: 160 | I26: Насыщенный
A27: Апрель | B27: 315 | C27: 10 | D27: 300 | E27: 9.5 | F27: 290 | G27: 9.7 | H27: 160 | I27: Насыщенный
A28: Май | B28: 300 | C28: 10 | D28: 300 | E28: 9.5 | F28: 300 | G28: 9.5 | H28: 160 | I28: Насыщенный
A29: Июнь | B29: 350 | C29: 10 | D29: 300 | E29: 9.5 | F29: 300 | G29: 9.5 | H29: 160 | I29: Насыщенный
A30: Июль | B30: 350 | C30: 10 | D30: 300 | E30: 9.5 | F30: 300 | G30: 9.5 | H30: 160 | I30: Насыщенный
A31: Август | B31: 350 | C31: 9.1 | D31: 300 | E31: 9.6 | F31: 300 | G31: 9.6 | H31: 160 | I31: Насыщенный
A32: Сентябрь | B32: 350 | C32: 9.1 | D32: 290 | E32: 9.7 | F32: 290 | G32: 9.7 | H32: 160 | I32: Насыщенный
A33: Октябрь | B33: 320 | C33: 9.8 | D33: 290 | E33: 9.7 | F33: 290 | G33: 9.7 | H33: 160 | I33: Насыщенный
A34: Ноябрь | B34: 320 | C34: 9.9 | D34: 290 | E34: 9.7 | F34: 290 | G34: 9.7 | H34: 160 | I34: Насыщенный
A35: Декабрь | B35: 320 | C35: 9.9 | D35: 290 | E35: 9.8 | F35: 290 | G35: 9.8 | H35: 160 | I35: Насыщенный
A36: Параметры конденсата
A37: Месяц | B37: Наименование параметров конденсата | C37: Конденсат острого пара, 70°С
B38: Температура конденсата, °С | C38: Температура пара в паропроводе-спутнике, °С
A39: Январь | B39: 70 | C39: 300
A40: Февраль | B40: 70 | C40: 300
...

Sheet Источники теплоснабжения
A1: Наименование источника теплоснабжения тепловой сети | B1: Принадлежность источника теплоснабжения ("Собственный" или "Сторонний") | C1: Месторасположение - наименование населённого пункта | D1: Установленная тепловая мощность источника теплоснабжения | F1: Располагаемая тепловая мощность источника теплоснабжения
D2: В горячей воде, Гкал/ч | E2: В паре, т/ч | F2: В горячей воде, Гкал/ч | G2: В паре, т/ч
A3: 1 | B3: 2 | C3: 3 | D3: 4 | E3: 5 | F3: 6 | G3: 7
A4: Ясногорская ТЭЦ | B4: Собственный | C4: г. Ясногорск | D4: 150 | E4: 150 | F4: 200 | G4: 200
A5: Котельная №1 | B5: Собственный | C5: г. Ясногорск | D5: 50 | E5: 50 | F5: 100 | G5: 100
A6: Котельная №2 | B6: Собственный | C6: г. Ясногорск | D6: 50 | E6: 50 | F6: 100 | G6: 100
A7: МиниТЭЦ-№3 | B7: Собственный | C7: г. Ясногорск | D7: 50 | E7: 50 | F7: 50 | G7: 50
A8: Котельная п. Строителей | B8: Собственный | C8: п. Строителей | D8: 85 | E8: 0 | F8: 100 | G8: 0
A9: Котельная №1 г. Северный | B9: Сторонний | C9: г. Северный | D9: 100 | E9: 0 | F9: 100 | G9: 0
A10: Котельная №2 г. Северный | B10: Сторонний | C10: г. Северный | D10: 50 | E10: 0 | F10: 100 | G10: 0
A11: Котельная №3 г. Северный | B11: Сторонний | C11: г. Северный | D11: 65 | E11: 0 | F11: 100 | G11: 0

Sheet Оборудование ЦТП
A1: Наименование тепловой сети | B1: Наименование насосной станции (ЦТП). Назначение (названия ЦТП должны соответствовать названиям, указанным в листе "Насосное оборудование") | C1: Параметры группы однотипных агрегатов
C2: Тип группы агрегатов (Оборудование собственных нужд ЦТП,Привод запорно - регулирующей арматуры) | D2: Наименование группы агрегатов | E2: Продолжительность функционирования группы агрегатов в году, часов. | F2: Количество агрегатов в группе | G2: КПД агрегата в группе, % | H2: Полезная мощность установленного в группе агрегата, кВт
A3: 1 | B3: 2 | C3: 3 | D3: 4 | E3: 5 | F3: 6 | G3: 7 | H3: 8
A4: Водяная теплосеть г. Ясногорска | B4: ЦТП-2 | C4: Оборудование собственных нужд ЦТП | D4: Освещение | E4: 8400 | F4: 5 | G4: 5 | H4: 6

Sheet Структура ЭСО
A1: Структура ЭСО
A2: Филиал ЭСО (при отсутствии данного уровня структуры указать "Непосредственное подчинение") | B2: Производственное подразделение ЭСО (при отсутствии данного уровня структуры указать "Непосредственное подчинение") | C2: Система теплоснабжения
A3: 1 | B3: 2 | C3: 3
A4: Непосредственное подчинение | B4: Непосредственное подчинение | C4: Водяная теплосеть г. Ясногорска
A5: Непосредственное подчинение | B5: Непосредственное подчинение | C5: Паровая теплосеть стройплощадки
A6: Непосредственное подчинение | B6: Непосредственное подчинение | C6: Сети конденсатопроводов стройплощадки
